BEGIN:VCALENDAR
VERSION:2.0
PRODID:-//Lindenhof Peritz - ECPv6.15.20//NONSGML v1.0//EN
CALSCALE:GREGORIAN
METHOD:PUBLISH
X-WR-CALNAME:Lindenhof Peritz
X-ORIGINAL-URL:https://lindenhof-peritz.de
X-WR-CALDESC:Veranstaltungen für Lindenhof Peritz
REFRESH-INTERVAL;VALUE=DURATION:PT1H
X-Robots-Tag:noindex
X-PUBLISHED-TTL:PT1H
BEGIN:VTIMEZONE
TZID:Europe/Berlin
BEGIN:DAYLIGHT
TZOFFSETFROM:+0100
TZOFFSETTO:+0200
TZNAME:CEST
DTSTART:20220327T010000
END:DAYLIGHT
BEGIN:STANDARD
TZOFFSETFROM:+0200
TZOFFSETTO:+0100
TZNAME:CET
DTSTART:20221030T010000
END:STANDARD
BEGIN:DAYLIGHT
TZOFFSETFROM:+0100
TZOFFSETTO:+0200
TZNAME:CEST
DTSTART:20230326T010000
END:DAYLIGHT
BEGIN:STANDARD
TZOFFSETFROM:+0200
TZOFFSETTO:+0100
TZNAME:CET
DTSTART:20231029T010000
END:STANDARD
BEGIN:DAYLIGHT
TZOFFSETFROM:+0100
TZOFFSETTO:+0200
TZNAME:CEST
DTSTART:20240331T010000
END:DAYLIGHT
BEGIN:STANDARD
TZOFFSETFROM:+0200
TZOFFSETTO:+0100
TZNAME:CET
DTSTART:20241027T010000
END:STANDARD
END:VTIMEZONE
BEGIN:VEVENT
DTSTART;VALUE=DATE:20231111
DTEND;VALUE=DATE:20231112
DTSTAMP:20260422T025012
CREATED:20231009T084233Z
LAST-MODIFIED:20231009T130837Z
UID:831-1699660800-1699747199@lindenhof-peritz.de
SUMMARY:Martinstag im Lindenhof Peritz
DESCRIPTION:Genießen Sie den Martinstag im Lindenhof Peritz mit einer köstlichen Martinsgans (Brust oder Keule) an komplett herbstbuntem Gemüse vom Markt und Klößen. \nZur Vorspeise können Sie Flecke oder Pastinakensuppe wählen. \nFür die besonderen Genießer bieten wir Powideln oder das einzigartige Kürbismus mit Feigenparfait als leckeres Dessert an. \nWir bitten Sie um eine Reservierung per Telefon unter 03 52 65 / 561 80 oder bequem über unser Formular. \nGrafik: Designed by rawpixel.com / Freepik
URL:https://lindenhof-peritz.de/event/martinstag-im-lindenhof-peritz-2023/
LOCATION:Lindenhof Peritz\, Hauptstraße 18\, Peritz\, Sachsen\, 01609\, Deutschland
ATTACH;FMTTYPE=image/jpeg:https://lindenhof-peritz.de/wp-content/uploads/Martinstag-Eventbild_2023.jpg
ORGANIZER;CN="Lindenhof Peritz":MAILTO:info@lindenhof-peritz.de
END:VEVENT
END:VCALENDAR