BEGIN:VCALENDAR
VERSION:2.0
PRODID:-//Lindenhof Peritz - ECPv6.15.20//NONSGML v1.0//EN
CALSCALE:GREGORIAN
METHOD:PUBLISH
X-WR-CALNAME:Lindenhof Peritz
X-ORIGINAL-URL:https://lindenhof-peritz.de
X-WR-CALDESC:Veranstaltungen für Lindenhof Peritz
REFRESH-INTERVAL;VALUE=DURATION:PT1H
X-Robots-Tag:noindex
X-PUBLISHED-TTL:PT1H
BEGIN:VTIMEZONE
TZID:Europe/Berlin
BEGIN:DAYLIGHT
TZOFFSETFROM:+0100
TZOFFSETTO:+0200
TZNAME:CEST
DTSTART:20220327T010000
END:DAYLIGHT
BEGIN:STANDARD
TZOFFSETFROM:+0200
TZOFFSETTO:+0100
TZNAME:CET
DTSTART:20221030T010000
END:STANDARD
BEGIN:DAYLIGHT
TZOFFSETFROM:+0100
TZOFFSETTO:+0200
TZNAME:CEST
DTSTART:20230326T010000
END:DAYLIGHT
BEGIN:STANDARD
TZOFFSETFROM:+0200
TZOFFSETTO:+0100
TZNAME:CET
DTSTART:20231029T010000
END:STANDARD
BEGIN:DAYLIGHT
TZOFFSETFROM:+0100
TZOFFSETTO:+0200
TZNAME:CEST
DTSTART:20240331T010000
END:DAYLIGHT
BEGIN:STANDARD
TZOFFSETFROM:+0200
TZOFFSETTO:+0100
TZNAME:CET
DTSTART:20241027T010000
END:STANDARD
END:VTIMEZONE
BEGIN:VEVENT
DTSTART;VALUE=DATE:20231231
DTEND;VALUE=DATE:20240101
DTSTAMP:20260423T005039
CREATED:20231213T141246Z
LAST-MODIFIED:20251208T183531Z
UID:842-1703980800-1704067199@lindenhof-peritz.de
SUMMARY:Silvester im Lindenhof Peritz
DESCRIPTION:Genießen Sie Silvester in aller Stille\, im Lindenhof Peritz zusammen mit Freunden oder im Familienkreis. \nErleben Sie unser Menü zum Jahreswechsel in fünf Gängen. Abwahl möglich\, wählen Sie zwischen Fleisch oder Fisch. Gern bieten wir Ihnen auch eine Auswahl an veganen Gerichten. \nHier erhalten Sie Einblick in unser Silvester-Menü. \nhttps://lindenhof-peritz.de/wp-content/uploads/LHP-Silvester-2023.pdf \nWir bitten Sie um eine Reservierung per Telefon unter 03 52 65 / 561 80 oder bequem über unser Formular. \nGrafikelemente: Freepik
URL:https://lindenhof-peritz.de/event/silvester-im-lindenhof-peritz/
LOCATION:Lindenhof Peritz\, Hauptstraße 18\, Peritz\, Sachsen\, 01609\, Deutschland
ATTACH;FMTTYPE=image/jpeg:https://lindenhof-peritz.de/wp-content/uploads/Silvester-2024-Eventbild.jpg
ORGANIZER;CN="Lindenhof Peritz":MAILTO:info@lindenhof-peritz.de
END:VEVENT
END:VCALENDAR